BEGIN:VCALENDAR
PRODID:-//Pixl8//Eventfolio//EN
VERSION:2.0
X-WR-TIMEZONE:Europe/Berlin
CALSCALE:GREGORIAN
METHOD:PUBLISH
CLASS:PUBLIC
BEGIN:VTIMEZONE
TZID:Europe/Berlin
LAST-MODIFIED:20260306T231828Z
TZURL:https://www.tzurl.org/zoneinfo-outlook/Europe/Berlin
X-LIC-LOCATION:Europe/Berlin
BEGIN:DAYLIGHT
TZNAME:CEST
TZOFFSETFROM:+0100
TZOFFSETTO:+0200
DTSTART:19700329T020000
RRULE:FREQ=YEARLY;BYMONTH=3;BYDAY=-1SU
END:DAYLIGHT
BEGIN:STANDARD
TZNAME:CET
TZOFFSETFROM:+0200
TZOFFSETTO:+0100
DTSTART:19701025T030000
RRULE:FREQ=YEARLY;BYMONTH=10;BYDAY=-1SU
END:STANDARD
END:VTIMEZONE
BEGIN:VEVENT
DTSTART;TZID=Europe/Berlin:20240613T080000
DTEND;TZID=Europe/Berlin:20240613T210000
DTSTAMP:20260425T174459Z
UID:{C532B047-043B-4879-8E38B327B88C7F6A.45456}
LOCATION:Munich Airport Marriott Hotel\, Alois-Steinecker-Straße 20\, 85354 Freising
SUMMARY:CFCamp 2024
DESCRIPTION:The only CFML conference in europe. Meet well known speakers of the CFML community and enjoy an interesting 2 day program with more than 25 sessions.\n
 \n
 Event details: https://www.cfcamp.org/ems-event-calendar/cfcamp-2024.html
PRIORITY:1
END:VEVENT
BEGIN:VEVENT
DTSTART;TZID=Europe/Berlin:20240614T080000
DTEND;TZID=Europe/Berlin:20240614T180000
DTSTAMP:20260425T174459Z
UID:{C532B047-043B-4879-8E38B327B88C7F6A.45457}
LOCATION:Munich Airport Marriott Hotel\, Alois-Steinecker-Straße 20\, 85354 Freising
SUMMARY:CFCamp 2024
DESCRIPTION:The only CFML conference in europe. Meet well known speakers of the CFML community and enjoy an interesting 2 day program with more than 25 sessions.\n
 \n
 Event details: https://www.cfcamp.org/ems-event-calendar/cfcamp-2024.html
PRIORITY:1
END:VEVENT
END:VCALENDAR